Package: HiTC Version: 1.53.1 Command: /home/biocbuild/bbs-3.22-bioc/R/bin/R CMD INSTALL HiTC StartedAt: 2025-10-14 15:26:26 -0400 (Tue, 14 Oct 2025) EndedAt: 2025-10-14 15:27:02 -0400 (Tue, 14 Oct 2025) EllapsedTime: 36.0 seconds RetCode: 0 Status: OK