Package: HiContacts Version: 1.11.0 Command: /home/biocbuild/bbs-3.22-bioc/R/bin/R CMD INSTALL HiContacts StartedAt: 2025-10-06 15:25:18 -0400 (Mon, 06 Oct 2025) EndedAt: 2025-10-06 15:25:49 -0400 (Mon, 06 Oct 2025) EllapsedTime: 30.8 seconds RetCode: 0 Status: OK