Package: HiContacts Version: 1.11.0 Command: /home/biocbuild/bbs-3.22-bioc/R/bin/R CMD build --keep-empty-dirs --no-resave-data --md5 HiContacts StartedAt: 2025-10-06 18:04:33 -0400 (Mon, 06 Oct 2025) EndedAt: 2025-10-06 18:10:00 -0400 (Mon, 06 Oct 2025) EllapsedTime: 327.3 seconds RetCode: 0 Status: OK PackageFile: HiContacts_1.11.0.tar.gz PackageFileSize: 4.439 MiB