Package: HiCcompare Version: 1.31.0 Command: /home/biocbuild/bbs-3.22-bioc/R/bin/R CMD INSTALL HiCcompare StartedAt: 2025-10-21 15:34:40 -0400 (Tue, 21 Oct 2025) EndedAt: 2025-10-21 15:35:16 -0400 (Tue, 21 Oct 2025) EllapsedTime: 35.9 seconds RetCode: 0 Status: OK