Package: HiCParser Version: 1.1.1 Command: /home/biocbuild/bbs-3.22-bioc/R/bin/R CMD INSTALL HiCParser StartedAt: 2025-09-30 15:23:34 -0400 (Tue, 30 Sep 2025) EndedAt: 2025-09-30 15:24:03 -0400 (Tue, 30 Sep 2025) EllapsedTime: 29.0 seconds RetCode: 0 Status: OK