Package: HiCParser Version: 1.1.1 Command: /home/biocbuild/bbs-3.22-bioc/R/bin/R CMD build --keep-empty-dirs --no-resave-data --md5 HiCParser StartedAt: 2025-10-01 18:28:14 -0400 (Wed, 01 Oct 2025) EndedAt: 2025-10-01 18:29:02 -0400 (Wed, 01 Oct 2025) EllapsedTime: 48.0 seconds RetCode: 0 Status: OK PackageFile: HiCParser_1.1.1.tar.gz PackageFileSize: 325.4 KiB