Package: HelloRanges Version: 1.37.0 Command: /Library/Frameworks/R.framework/Resources/bin/R CMD build --keep-empty-dirs --no-resave-data HelloRanges StartedAt: 2025-11-26 17:17:17 -0500 (Wed, 26 Nov 2025) EndedAt: 2025-11-26 17:21:33 -0500 (Wed, 26 Nov 2025) EllapsedTime: 256.1 seconds RetCode: 0 Status: OK PackageFile: HelloRanges_1.37.0.tar.gz PackageFileSize: 950 KiB