Package: HelloRanges Version: 1.37.0 Command: rm -rf HelloRanges.buildbin-libdir && mkdir HelloRanges.buildbin-libdir && /Users/biocbuild/BBS/utils/build-universal.sh HelloRanges_1.37.0.tar.gz /Library/Frameworks/R.framework/Resources/bin/R HelloRanges.buildbin-libdir StartedAt: 2025-11-20 23:36:37 -0500 (Thu, 20 Nov 2025) EndedAt: 2025-11-20 23:36:58 -0500 (Thu, 20 Nov 2025) EllapsedTime: 20.5 seconds RetCode: 0 Status: OK PackageFile: HelloRanges_1.37.0.tgz PackageFileSize: 967.8 KiB