Package: HELP Version: 1.67.0 Command: /home/biocbuild/bbs-3.22-bioc/R/bin/R CMD build --keep-empty-dirs --no-resave-data --md5 HELP StartedAt: 2025-10-06 18:03:07 -0400 (Mon, 06 Oct 2025) EndedAt: 2025-10-06 18:03:18 -0400 (Mon, 06 Oct 2025) EllapsedTime: 11.1 seconds RetCode: 0 Status: OK PackageFile: HELP_1.67.0.tar.gz PackageFileSize: 999.6 KiB