Package: HDF5Array Version: 1.39.0 Command: /home/biocbuild/bbs-3.23-bioc/R/bin/R CMD INSTALL HDF5Array StartedAt: 2025-11-07 15:16:01 -0500 (Fri, 07 Nov 2025) EndedAt: 2025-11-07 15:16:22 -0500 (Fri, 07 Nov 2025) EllapsedTime: 21.0 seconds RetCode: 0 Status: OK