Package: HDF5Array Version: 1.39.0 Command: /home/biocbuild/bbs-3.23-bioc/R/bin/R CMD build --keep-empty-dirs --no-resave-data HDF5Array StartedAt: 2025-11-07 17:58:59 -0500 (Fri, 07 Nov 2025) EndedAt: 2025-11-07 18:11:39 -0500 (Fri, 07 Nov 2025) EllapsedTime: 759.9 seconds RetCode: 0 Status: OK PackageFile: HDF5Array_1.39.0.tar.gz PackageFileSize: 7.968 MiB