Package: HDF5Array Version: 1.37.0 Command: /Library/Frameworks/R.framework/Resources/bin/R CMD INSTALL HDF5Array StartedAt: 2025-10-06 15:17:34 -0400 (Mon, 06 Oct 2025) EndedAt: 2025-10-06 15:18:10 -0400 (Mon, 06 Oct 2025) EllapsedTime: 35.8 seconds RetCode: 0 Status: OK