Package: HDF5Array Version: 1.37.0 Command: /Library/Frameworks/R.framework/Resources/bin/R CMD INSTALL HDF5Array StartedAt: 2025-10-02 15:10:33 -0400 (Thu, 02 Oct 2025) EndedAt: 2025-10-02 15:10:42 -0400 (Thu, 02 Oct 2025) EllapsedTime: 8.9 seconds RetCode: 0 Status: OK