Package: HDF5Array Version: 1.37.0 Command: /Library/Frameworks/R.framework/Resources/bin/R CMD build --keep-empty-dirs --no-resave-data HDF5Array StartedAt: 2025-10-02 16:39:27 -0400 (Thu, 02 Oct 2025) EndedAt: 2025-10-02 16:45:37 -0400 (Thu, 02 Oct 2025) EllapsedTime: 370.0 seconds RetCode: 0 Status: OK PackageFile: HDF5Array_1.37.0.tar.gz PackageFileSize: 7.968 MiB