Package: HDF5Array Version: 1.39.0 Maintainer: Hervé Pagès MaintainerEmail: hpages.on.github at gmail.com git_url: https://git.bioconductor.org/packages/HDF5Array git_branch: devel git_last_commit: 538f969 git_last_commit_date: 2025-10-29 12:21:26 -0400 (Wed, 29 Oct 2025)