Package: GraphAlignment Version: 1.73.0 Command: /home/biocbuild/R/R/bin/R CMD INSTALL GraphAlignment StartedAt: 2025-10-20 20:16:45 -0000 (Mon, 20 Oct 2025) EndedAt: 2025-10-20 20:17:23 -0000 (Mon, 20 Oct 2025) EllapsedTime: 38.2 seconds RetCode: 0 Status: OK