Package: GraphAlignment Version: 1.73.0 Command: /home/biocbuild/R/R/bin/R CMD build --keep-empty-dirs --no-resave-data GraphAlignment StartedAt: 2025-10-21 00:18:21 -0000 (Tue, 21 Oct 2025) EndedAt: 2025-10-21 00:18:29 -0000 (Tue, 21 Oct 2025) EllapsedTime: 8.0 seconds RetCode: 0 Status: OK PackageFile: GraphAlignment_1.73.0.tar.gz PackageFileSize: 576.1 KiB