Package: GraphAlignment Version: 1.75.0 Command: /home/biocbuild/bbs-3.23-bioc/R/bin/R CMD INSTALL GraphAlignment StartedAt: 2025-11-05 15:14:16 -0500 (Wed, 05 Nov 2025) EndedAt: 2025-11-05 15:14:36 -0500 (Wed, 05 Nov 2025) EllapsedTime: 20.2 seconds RetCode: 0 Status: OK