Package: GraphAlignment Version: 1.75.0 Command: /home/biocbuild/bbs-3.23-bioc/R/bin/R CMD build --keep-empty-dirs --no-resave-data GraphAlignment StartedAt: 2025-11-05 17:59:51 -0500 (Wed, 05 Nov 2025) EndedAt: 2025-11-05 17:59:58 -0500 (Wed, 05 Nov 2025) EllapsedTime: 7.0 seconds RetCode: 0 Status: OK PackageFile: GraphAlignment_1.75.0.tar.gz PackageFileSize: 591.7 KiB