Package: GraphAT Version: 1.81.0 Command: /Library/Frameworks/R.framework/Resources/bin/R CMD INSTALL GraphAT StartedAt: 2025-10-10 15:19:58 -0400 (Fri, 10 Oct 2025) EndedAt: 2025-10-10 15:20:09 -0400 (Fri, 10 Oct 2025) EllapsedTime: 11.5 seconds RetCode: 0 Status: OK