Package: GraphAT Version: 1.81.0 Command: /Library/Frameworks/R.framework/Resources/bin/R CMD build --keep-empty-dirs --no-resave-data GraphAT StartedAt: 2025-10-10 17:25:03 -0400 (Fri, 10 Oct 2025) EndedAt: 2025-10-10 17:25:07 -0400 (Fri, 10 Oct 2025) EllapsedTime: 3.5 seconds RetCode: 0 Status: OK PackageFile: GraphAT_1.81.0.tar.gz PackageFileSize: 1.884 MiB