Package: GraphAT Version: 1.81.0 Command: /Library/Frameworks/R.framework/Resources/bin/R CMD INSTALL GraphAT StartedAt: 2025-10-05 15:07:09 -0400 (Sun, 05 Oct 2025) EndedAt: 2025-10-05 15:07:13 -0400 (Sun, 05 Oct 2025) EllapsedTime: 3.8 seconds RetCode: 0 Status: OK