Package: GraphAT Version: 1.81.0 Command: /Library/Frameworks/R.framework/Resources/bin/R CMD build --keep-empty-dirs --no-resave-data GraphAT StartedAt: 2025-10-05 16:39:53 -0400 (Sun, 05 Oct 2025) EndedAt: 2025-10-05 16:39:54 -0400 (Sun, 05 Oct 2025) EllapsedTime: 1.0 seconds RetCode: 0 Status: OK PackageFile: GraphAT_1.81.0.tar.gz PackageFileSize: 1.884 MiB