Package: GraphAT Version: 1.81.0 Command: rm -rf GraphAT.buildbin-libdir && mkdir GraphAT.buildbin-libdir && /Users/biocbuild/BBS/utils/build-universal.sh GraphAT_1.81.0.tar.gz /Library/Frameworks/R.framework/Resources/bin/R GraphAT.buildbin-libdir StartedAt: 2025-10-06 22:46:27 -0400 (Mon, 06 Oct 2025) EndedAt: 2025-10-06 22:46:31 -0400 (Mon, 06 Oct 2025) EllapsedTime: 4.1 seconds RetCode: 0 Status: OK PackageFile: GraphAT_1.81.0.tgz PackageFileSize: 1.918 MiB