Package: GeomxTools Version: 3.15.0 Command: /Library/Frameworks/R.framework/Resources/bin/R CMD INSTALL GeomxTools StartedAt: 2025-11-20 15:22:45 -0500 (Thu, 20 Nov 2025) EndedAt: 2025-11-20 15:23:23 -0500 (Thu, 20 Nov 2025) EllapsedTime: 38.6 seconds RetCode: 0 Status: OK