Package: GeomxTools Version: 3.15.0 Command: /Library/Frameworks/R.framework/Resources/bin/R CMD build --keep-empty-dirs --no-resave-data GeomxTools StartedAt: 2025-11-13 16:31:30 -0500 (Thu, 13 Nov 2025) EndedAt: 2025-11-13 16:33:48 -0500 (Thu, 13 Nov 2025) EllapsedTime: 137.3 seconds RetCode: 0 Status: OK PackageFile: GeomxTools_3.15.0.tar.gz PackageFileSize: 17.04 MiB