Package: GeomxTools Version: 3.15.0 Command: rm -rf GeomxTools.buildbin-libdir && mkdir GeomxTools.buildbin-libdir && /Users/biocbuild/BBS/utils/build-universal.sh GeomxTools_3.15.0.tar.gz /Library/Frameworks/R.framework/Resources/bin/R GeomxTools.buildbin-libdir StartedAt: 2025-11-13 23:39:35 -0500 (Thu, 13 Nov 2025) EndedAt: 2025-11-13 23:39:50 -0500 (Thu, 13 Nov 2025) EllapsedTime: 14.3 seconds RetCode: 0 Status: OK PackageFile: GeomxTools_3.15.0.tgz PackageFileSize: 15.8 MiB