Package: GeoDiff Version: 1.15.0 Command: /Library/Frameworks/R.framework/Resources/bin/R CMD INSTALL GeoDiff StartedAt: 2025-10-08 15:22:34 -0400 (Wed, 08 Oct 2025) EndedAt: 2025-10-08 15:24:14 -0400 (Wed, 08 Oct 2025) EllapsedTime: 99.6 seconds RetCode: 0 Status: OK