Package: GeoDiff Version: 1.15.0 Command: /Library/Frameworks/R.framework/Resources/bin/R CMD build --keep-empty-dirs --no-resave-data GeoDiff StartedAt: 2025-10-09 17:13:25 -0400 (Thu, 09 Oct 2025) EndedAt: 2025-10-09 17:18:13 -0400 (Thu, 09 Oct 2025) EllapsedTime: 287.0 seconds RetCode: 0 Status: OK PackageFile: GeoDiff_1.15.0.tar.gz PackageFileSize: 4.581 MiB