Package: GeoDiff Version: 1.15.0 Command: /Library/Frameworks/R.framework/Resources/bin/R CMD INSTALL GeoDiff StartedAt: 2025-10-03 15:08:35 -0400 (Fri, 03 Oct 2025) EndedAt: 2025-10-03 15:09:00 -0400 (Fri, 03 Oct 2025) EllapsedTime: 24.7 seconds RetCode: 0 Status: OK