Package: GeoDiff Version: 1.15.0 Command: /Library/Frameworks/R.framework/Resources/bin/R CMD build --keep-empty-dirs --no-resave-data GeoDiff StartedAt: 2025-10-03 16:30:51 -0400 (Fri, 03 Oct 2025) EndedAt: 2025-10-03 16:32:19 -0400 (Fri, 03 Oct 2025) EllapsedTime: 87.8 seconds RetCode: 0 Status: OK PackageFile: GeoDiff_1.15.0.tar.gz PackageFileSize: 4.58 MiB