Package: GeoDiff Version: 1.15.0 Command: rm -rf GeoDiff.buildbin-libdir && mkdir GeoDiff.buildbin-libdir && /Users/biocbuild/BBS/utils/build-universal.sh GeoDiff_1.15.0.tar.gz /Library/Frameworks/R.framework/Resources/bin/R GeoDiff.buildbin-libdir StartedAt: 2025-10-03 22:40:52 -0400 (Fri, 03 Oct 2025) EndedAt: 2025-10-03 22:41:19 -0400 (Fri, 03 Oct 2025) EllapsedTime: 26.5 seconds RetCode: 0 Status: OK PackageFile: GeoDiff_1.15.0.tgz PackageFileSize: 4.799 MiB