Package: GeoDiff Version: 1.17.0 Maintainer: Nicole Ortogero MaintainerEmail: nortogero at nanostring.com git_url: https://git.bioconductor.org/packages/GeoDiff git_branch: devel git_last_commit: 8ca4c17 git_last_commit_date: 2025-10-29 11:13:32 -0500 (Wed, 29 Oct 2025)