Package: GenomicPlot Version: 1.7.2 Command: /home/biocbuild/bbs-3.22-bioc/R/bin/R CMD INSTALL GenomicPlot StartedAt: 2025-10-05 15:44:03 -0400 (Sun, 05 Oct 2025) EndedAt: 2025-10-05 15:44:55 -0400 (Sun, 05 Oct 2025) EllapsedTime: 52.2 seconds RetCode: 0 Status: OK