Package: GenomicInteractionNodes Version: 1.13.1 Command: /home/biocbuild/bbs-3.22-bioc/R/bin/R CMD INSTALL GenomicInteractionNodes StartedAt: 2025-10-01 15:47:17 -0400 (Wed, 01 Oct 2025) EndedAt: 2025-10-01 15:48:03 -0400 (Wed, 01 Oct 2025) EllapsedTime: 46.4 seconds RetCode: 0 Status: OK