Package: GenomicInteractionNodes Version: 1.13.1 Command: /home/biocbuild/bbs-3.22-bioc/R/bin/R CMD build --keep-empty-dirs --no-resave-data --md5 GenomicInteractionNodes StartedAt: 2025-10-01 18:09:54 -0400 (Wed, 01 Oct 2025) EndedAt: 2025-10-01 18:11:30 -0400 (Wed, 01 Oct 2025) EllapsedTime: 96.1 seconds RetCode: 0 Status: OK PackageFile: GenomicInteractionNodes_1.13.1.tar.gz PackageFileSize: 249.2 KiB