Package: GenomicDistributions Version: 1.19.0 Command: /home/biocbuild/bbs-3.23-bioc/R/bin/R CMD build --keep-empty-dirs --no-resave-data GenomicDistributions StartedAt: 2025-11-27 17:45:18 -0500 (Thu, 27 Nov 2025) EndedAt: 2025-11-27 17:46:26 -0500 (Thu, 27 Nov 2025) EllapsedTime: 68.1 seconds RetCode: 0 Status: OK PackageFile: GenomicDistributions_1.19.0.tar.gz PackageFileSize: 6.237 MiB