Package: GenomicDistributions Version: 1.19.0 Command: /Library/Frameworks/R.framework/Resources/bin/R CMD INSTALL GenomicDistributions StartedAt: 2025-11-21 15:22:07 -0500 (Fri, 21 Nov 2025) EndedAt: 2025-11-21 15:22:31 -0500 (Fri, 21 Nov 2025) EllapsedTime: 23.6 seconds RetCode: 0 Status: OK