Package: GenomicDistributions Version: 1.19.0 Command: /Library/Frameworks/R.framework/Resources/bin/R CMD build --keep-empty-dirs --no-resave-data GenomicDistributions StartedAt: 2025-11-23 17:12:07 -0500 (Sun, 23 Nov 2025) EndedAt: 2025-11-23 17:13:25 -0500 (Sun, 23 Nov 2025) EllapsedTime: 77.7 seconds RetCode: 0 Status: OK PackageFile: GenomicDistributions_1.19.0.tar.gz PackageFileSize: 5.947 MiB