Package: GenomicDataCommons Version: 1.35.1 Command: /Library/Frameworks/R.framework/Resources/bin/R CMD INSTALL GenomicDataCommons StartedAt: 2025-11-21 15:11:01 -0500 (Fri, 21 Nov 2025) EndedAt: 2025-11-21 15:11:05 -0500 (Fri, 21 Nov 2025) EllapsedTime: 4.3 seconds RetCode: 0 Status: OK