Package: GenomicAlignments Version: 1.47.0 Command: /home/biocbuild/bbs-3.23-bioc/R/bin/R CMD INSTALL GenomicAlignments StartedAt: 2025-11-20 15:24:27 -0500 (Thu, 20 Nov 2025) EndedAt: 2025-11-20 15:25:02 -0500 (Thu, 20 Nov 2025) EllapsedTime: 34.7 seconds RetCode: 0 Status: OK