Package: GenomicAlignments Version: 1.47.0 Command: /Library/Frameworks/R.framework/Resources/bin/R CMD INSTALL GenomicAlignments StartedAt: 2025-11-20 15:31:49 -0500 (Thu, 20 Nov 2025) EndedAt: 2025-11-20 15:32:36 -0500 (Thu, 20 Nov 2025) EllapsedTime: 47.4 seconds RetCode: 0 Status: OK