Package: GenomicAlignments Version: 1.47.0 Command: /Library/Frameworks/R.framework/Resources/bin/R CMD INSTALL GenomicAlignments StartedAt: 2025-11-12 15:27:59 -0500 (Wed, 12 Nov 2025) EndedAt: 2025-11-12 15:28:12 -0500 (Wed, 12 Nov 2025) EllapsedTime: 13.4 seconds RetCode: 0 Status: OK