Package: GenomicAlignments Version: 1.47.0 Command: /Library/Frameworks/R.framework/Resources/bin/R CMD build --keep-empty-dirs --no-resave-data GenomicAlignments StartedAt: 2025-11-12 16:19:30 -0500 (Wed, 12 Nov 2025) EndedAt: 2025-11-12 16:20:08 -0500 (Wed, 12 Nov 2025) EllapsedTime: 38.4 seconds RetCode: 1 Status: ERROR PackageFile: None PackageFileSize: NA