Package: GeneStructureTools Version: 1.29.0 Command: /Library/Frameworks/R.framework/Resources/bin/R CMD INSTALL GeneStructureTools StartedAt: 2025-10-21 15:48:50 -0400 (Tue, 21 Oct 2025) EndedAt: 2025-10-21 15:50:02 -0400 (Tue, 21 Oct 2025) EllapsedTime: 72.4 seconds RetCode: 0 Status: OK