Package: GeneStructureTools Version: 1.29.0 Command: /Library/Frameworks/R.framework/Resources/bin/R CMD build --keep-empty-dirs --no-resave-data GeneStructureTools StartedAt: 2025-10-21 17:22:04 -0400 (Tue, 21 Oct 2025) EndedAt: 2025-10-21 17:25:48 -0400 (Tue, 21 Oct 2025) EllapsedTime: 224.3 seconds RetCode: 0 Status: OK PackageFile: GeneStructureTools_1.29.0.tar.gz PackageFileSize: 2.848 MiB