Package: GeneStructureTools Version: 1.29.0 Command: /Library/Frameworks/R.framework/Resources/bin/R CMD INSTALL GeneStructureTools StartedAt: 2025-10-05 15:28:09 -0400 (Sun, 05 Oct 2025) EndedAt: 2025-10-05 15:28:30 -0400 (Sun, 05 Oct 2025) EllapsedTime: 21.5 seconds RetCode: 0 Status: OK