Package: GeneStructureTools Version: 1.29.0 Command: /Library/Frameworks/R.framework/Resources/bin/R CMD build --keep-empty-dirs --no-resave-data GeneStructureTools StartedAt: 2025-10-05 16:30:46 -0400 (Sun, 05 Oct 2025) EndedAt: 2025-10-05 16:31:41 -0400 (Sun, 05 Oct 2025) EllapsedTime: 54.6 seconds RetCode: 0 Status: OK PackageFile: GeneStructureTools_1.29.0.tar.gz PackageFileSize: 2.848 MiB