Package: GeneStructureTools Version: 1.31.0 Maintainer: Beth Signal MaintainerEmail: b.signal at garvan.org.au git_url: https://git.bioconductor.org/packages/GeneStructureTools git_branch: devel git_last_commit: 995a387 git_last_commit_date: 2025-10-29 10:43:43 -0500 (Wed, 29 Oct 2025)