Package: GeneExpressionSignature Version: 1.55.0 Command: /home/biocbuild/bbs-3.22-bioc/R/bin/R CMD INSTALL GeneExpressionSignature StartedAt: 2025-10-03 15:12:20 -0400 (Fri, 03 Oct 2025) EndedAt: 2025-10-03 15:12:24 -0400 (Fri, 03 Oct 2025) EllapsedTime: 3.5 seconds RetCode: 0 Status: OK